BEGIN:VCALENDAR
VERSION:2.0
PRODID:-////NONSGML kigkonsult.se iCalcreator 2.22//
X-WR-CALNAME:Mein Kalender bei ''
X-WR-CALDESC:Der iCal-Feed wurde automatisch erstellt von EQDKP-PLUS
X-WR-TIMEZONE:Europe/Berlin
BEGIN:VTIMEZONE
TZID:Europe/Berlin
X-LIC-LOCATION:Europe/Berlin
BEGIN:STANDARD
DTSTART:20251026T030000
TZOFFSETFROM:+0200
TZOFFSETTO:+0100
RDATE:20261025T030000
TZNAME:CET
END:STANDARD
BEGIN:DAYLIGHT
DTSTART:20260329T020000
TZOFFSETFROM:+0100
TZOFFSETTO:+0200
RDATE:20270328T020000
TZNAME:CEST
END:DAYLIGHT
END:VTIMEZONE
BEGIN:VEVENT
UID:20260421T230737UTC-6189DVsFBl@162.55.0.135
DTSTAMP:20260421T230737Z
CATEGORIES:PERSONAL
CLASS:PUBLIC
DESCRIPTION:Würde gerne mal eine T2 Runde für Twinks einwerfen.\n\nOder für
  diejenigen die noch den Abschluss benötigen.\n\nWichtig wäre mir das die 
 Tanks wissen was zu tun ist.\n\nEbenso wäre ein Zielvorgeber von nöten der
  weiß welchem Ork er zuerst in den Fuß schießen muss.\n\nAlles andere wird
  sich zeigen.
DTSTART:20220824T181500Z
DTEND:20220824T203000Z
SUMMARY:Ábnankara der Heimlichort T2
END:VEVENT
END:VCALENDAR
