BEGIN:VCALENDAR
VERSION:2.0
PRODID:-////NONSGML kigkonsult.se iCalcreator 2.22//
X-WR-CALNAME:Mein Kalender bei ''
X-WR-CALDESC:Der iCal-Feed wurde automatisch erstellt von EQDKP-PLUS
X-WR-TIMEZONE:Europe/Berlin
BEGIN:VTIMEZONE
TZID:Europe/Berlin
X-LIC-LOCATION:Europe/Berlin
BEGIN:STANDARD
DTSTART:20251026T030000
TZOFFSETFROM:+0200
TZOFFSETTO:+0100
RDATE:20261025T030000
TZNAME:CET
END:STANDARD
BEGIN:DAYLIGHT
DTSTART:20260329T020000
TZOFFSETFROM:+0100
TZOFFSETTO:+0200
RDATE:20270328T020000
TZNAME:CEST
END:DAYLIGHT
END:VTIMEZONE
BEGIN:VEVENT
UID:20260421T014130UTC-0142g2J4Nf@162.55.0.135
DTSTAMP:20260421T014130Z
CATEGORIES:PERSONAL
CLASS:PUBLIC
DESCRIPTION:Eine spontane T2 Runde für Schmuck und Asche\, da unser Raid am
  Dienstag ja ausfällt. Wäre schon eine Truppe zusammen zubekommen :)
DTSTART:20220805T181500Z
DTEND:20220805T203000Z
SUMMARY:Ábnankara der Heimlichort T2
END:VEVENT
END:VCALENDAR
