BEGIN:VCALENDAR
VERSION:2.0
PRODID:-////NONSGML kigkonsult.se iCalcreator 2.22//
X-WR-CALNAME:Mein Kalender bei ''
X-WR-CALDESC:Der iCal-Feed wurde automatisch erstellt von EQDKP-PLUS
X-WR-TIMEZONE:Europe/Berlin
BEGIN:VTIMEZONE
TZID:Europe/Berlin
X-LIC-LOCATION:Europe/Berlin
BEGIN:STANDARD
DTSTART:20251026T030000
TZOFFSETFROM:+0200
TZOFFSETTO:+0100
RDATE:20261025T030000
TZNAME:CET
END:STANDARD
BEGIN:DAYLIGHT
DTSTART:20260329T020000
TZOFFSETFROM:+0100
TZOFFSETTO:+0200
RDATE:20270328T020000
TZNAME:CEST
END:DAYLIGHT
END:VTIMEZONE
BEGIN:VEVENT
UID:20260419T210835UTC-5092FPfBeo@162.55.0.135
DTSTAMP:20260419T210835Z
CATEGORIES:PERSONAL
CLASS:PUBLIC
DESCRIPTION:Letzten Dienstag war in von der Konzentration und dem Ablauf et
 was unzufrieden. Bitte seid auch bei den Adds konzentriert! Wir hetzen die
 sen Dienstag nicht durch\, sondern gehen abgesprochen in die Gruppen! Ziel
  ist ID3 2-3 Versuche zu machen\, seit bitte alle pünktlich
DTSTART:20220405T181500Z
DTEND:20220405T203000Z
SUMMARY:Ábnankara der Heimlichort T2
END:VEVENT
END:VCALENDAR
