BEGIN:VCALENDAR
VERSION:2.0
PRODID:-////NONSGML kigkonsult.se iCalcreator 2.22//
X-WR-CALNAME:Mein Kalender bei ''
X-WR-CALDESC:Der iCal-Feed wurde automatisch erstellt von EQDKP-PLUS
X-WR-TIMEZONE:Europe/Berlin
BEGIN:VTIMEZONE
TZID:Europe/Berlin
X-LIC-LOCATION:Europe/Berlin
BEGIN:STANDARD
DTSTART:20251026T030000
TZOFFSETFROM:+0200
TZOFFSETTO:+0100
RDATE:20261025T030000
TZNAME:CET
END:STANDARD
BEGIN:DAYLIGHT
DTSTART:20260329T020000
TZOFFSETFROM:+0100
TZOFFSETTO:+0200
RDATE:20270328T020000
TZNAME:CEST
END:DAYLIGHT
END:VTIMEZONE
BEGIN:VEVENT
UID:20260419T201047UTC-4687uANMBV@162.55.0.135
DTSTAMP:20260419T201047Z
CATEGORIES:PERSONAL
CLASS:PUBLIC
DESCRIPTION:Ich möchte nochmal Thron anbieten! Ich selbst könnte mit 3 Char
 akteren laufen und würde mich über Begleitung freuen. \n\nFür Spieler die 
 ihre Waffen noch nicht ausgelevelt haben und/oder noch Atribute austausche
 n wollen wäre dieses Angebot sinnvoll :)
DTSTART:20210902T181500Z
DTEND:20210902T201500Z
SUMMARY:Thron
END:VEVENT
END:VCALENDAR
