BEGIN:VCALENDAR
VERSION:2.0
PRODID:-////NONSGML kigkonsult.se iCalcreator 2.22//
X-WR-CALNAME:Mein Kalender bei ''
X-WR-CALDESC:Der iCal-Feed wurde automatisch erstellt von EQDKP-PLUS
X-WR-TIMEZONE:Europe/Berlin
BEGIN:VTIMEZONE
TZID:Europe/Berlin
X-LIC-LOCATION:Europe/Berlin
BEGIN:STANDARD
DTSTART:20251026T030000
TZOFFSETFROM:+0200
TZOFFSETTO:+0100
RDATE:20261025T030000
TZNAME:CET
END:STANDARD
BEGIN:DAYLIGHT
DTSTART:20260329T020000
TZOFFSETFROM:+0100
TZOFFSETTO:+0200
RDATE:20270328T020000
TZNAME:CEST
END:DAYLIGHT
END:VTIMEZONE
BEGIN:VEVENT
UID:20260420T165848UTC-5983j5hDEi@162.55.0.135
DTSTAMP:20260420T165848Z
CATEGORIES:PERSONAL
CLASS:PUBLIC
DESCRIPTION:Das Sommerfest  ist wieder da und somit auch Thrang! Etwas spon
 tan der Termin\, aber es soll mal ein Überblick sein wer Interesse hätte. 
 Zwecks dem Wetter starten wir um 20:45
DTSTART:20210617T184500Z
DTEND:20210617T200000Z
SUMMARY:Thrang (Sommerfest) mehrere Runden
END:VEVENT
END:VCALENDAR
