BEGIN:VCALENDAR
VERSION:2.0
PRODID:-////NONSGML kigkonsult.se iCalcreator 2.22//
X-WR-CALNAME:Mein Kalender bei ''
X-WR-CALDESC:Der iCal-Feed wurde automatisch erstellt von EQDKP-PLUS
X-WR-TIMEZONE:Europe/Berlin
BEGIN:VTIMEZONE
TZID:Europe/Berlin
X-LIC-LOCATION:Europe/Berlin
BEGIN:STANDARD
DTSTART:20251026T030000
TZOFFSETFROM:+0200
TZOFFSETTO:+0100
RDATE:20261025T030000
TZNAME:CET
END:STANDARD
BEGIN:DAYLIGHT
DTSTART:20260329T020000
TZOFFSETFROM:+0100
TZOFFSETTO:+0200
RDATE:20270328T020000
TZNAME:CEST
END:DAYLIGHT
END:VTIMEZONE
BEGIN:VEVENT
UID:20260420T080513UTC-7862USxJlt@162.55.0.135
DTSTAMP:20260420T080513Z
CATEGORIES:PERSONAL
CLASS:PUBLIC
DESCRIPTION:Dieser Termin bezieht sich vorrangig auf Sippenmitglieder. \n\n
 Quasi ein Sippenabend.^^ \n\nGrundsätzlich kann sich unabhängig von Equip 
 u. Klasse jeder anmelden. Angepeilt wird zwar Level 130 aber nach Absprach
 e kann man auch mal was anderes anbieten. \n\nAnsonsten kann das Angebot h
 ier über Thron/Shaka/Nazgulrunde wechseln\, es können aber auch alte Inis/
 Raids oder auch neue Raids auf leichtem Schwierigkeitsgrad angeboten werde
 n. \n\nHauptsache gemeinsam unterwegs sein und Spaß haben. \n\nWenn das An
 gebot angenommen wird werde ich das regelmäßiger anbieten. \n\n\n\nViele G
 rüße \n\nFilbu
DTSTART:20210601T190000Z
DTEND:20210601T210000Z
SUMMARY:Sippenabend
END:VEVENT
END:VCALENDAR
