BEGIN:VCALENDAR
VERSION:2.0
PRODID:-////NONSGML kigkonsult.se iCalcreator 2.22//
X-WR-CALNAME:Mein Kalender bei ''
X-WR-CALDESC:Der iCal-Feed wurde automatisch erstellt von EQDKP-PLUS
X-WR-TIMEZONE:Europe/Berlin
BEGIN:VTIMEZONE
TZID:Europe/Berlin
X-LIC-LOCATION:Europe/Berlin
BEGIN:STANDARD
DTSTART:20251026T030000
TZOFFSETFROM:+0200
TZOFFSETTO:+0100
RDATE:20261025T030000
TZNAME:CET
END:STANDARD
BEGIN:DAYLIGHT
DTSTART:20260329T020000
TZOFFSETFROM:+0100
TZOFFSETTO:+0200
RDATE:20270328T020000
TZNAME:CEST
END:DAYLIGHT
END:VTIMEZONE
BEGIN:VEVENT
UID:20260419T172908UTC-1168s9eivu@162.55.0.135
DTSTAMP:20260419T172908Z
CATEGORIES:PERSONAL
CLASS:PUBLIC
DESCRIPTION:Eine Runde Senke und Weide auf T-3/5.\n\nBestimmte Klassen werd
 en nicht bevorzugt. Müssen halt schauen das es passt.
DTSTART:20210512T181500Z
DTEND:20210512T201500Z
SUMMARY:Senke + Weide 
END:VEVENT
END:VCALENDAR
