BEGIN:VCALENDAR
VERSION:2.0
PRODID:-////NONSGML kigkonsult.se iCalcreator 2.22//
X-WR-CALNAME:Mein Kalender bei ''
X-WR-CALDESC:Der iCal-Feed wurde automatisch erstellt von EQDKP-PLUS
X-WR-TIMEZONE:Europe/Berlin
BEGIN:VTIMEZONE
TZID:Europe/Berlin
X-LIC-LOCATION:Europe/Berlin
BEGIN:STANDARD
DTSTART:20251026T030000
TZOFFSETFROM:+0200
TZOFFSETTO:+0100
RDATE:20261025T030000
TZNAME:CET
END:STANDARD
BEGIN:DAYLIGHT
DTSTART:20260329T020000
TZOFFSETFROM:+0100
TZOFFSETTO:+0200
RDATE:20270328T020000
TZNAME:CEST
END:DAYLIGHT
END:VTIMEZONE
BEGIN:VEVENT
UID:20260420T050926UTC-06316dh2w5@162.55.0.135
DTSTAMP:20260420T050926Z
CATEGORIES:PERSONAL
CLASS:PUBLIC
DESCRIPTION:Ich will ein paar Monsterärsche verkloppen und da Samstags die 
 Wilden unterwegs sind und dadurch ein paar Monster zum bekämpfen *fies gri
 ns*.. Wie wir es gebalanct bekommen schauen wir an dem Tag\, alles vom Zäh
 en steak zur Glasskannone bis hin zum Kanonnenfutter gern gesehen solange 
 es nen harten magen hat\, zuhören kann und auf das Kommando so wirds unfai
 r wir ändern es hört ohne mimimi zu machen. \n\n\n\nNach letzter woche seh
 en wir ob wir in Osgiliath was hinbekommen die woche
DTSTART:20210529T181500Z
DTEND:20210529T201500Z
SUMMARY:PvMP
END:VEVENT
END:VCALENDAR
