BEGIN:VCALENDAR
VERSION:2.0
PRODID:-////NONSGML kigkonsult.se iCalcreator 2.22//
X-WR-CALNAME:Mein Kalender bei ''
X-WR-CALDESC:Der iCal-Feed wurde automatisch erstellt von EQDKP-PLUS
X-WR-TIMEZONE:Europe/Berlin
BEGIN:VTIMEZONE
TZID:Europe/Berlin
X-LIC-LOCATION:Europe/Berlin
BEGIN:STANDARD
DTSTART:20251026T030000
TZOFFSETFROM:+0200
TZOFFSETTO:+0100
RDATE:20261025T030000
TZNAME:CET
END:STANDARD
BEGIN:DAYLIGHT
DTSTART:20260329T020000
TZOFFSETFROM:+0100
TZOFFSETTO:+0200
RDATE:20270328T020000
TZNAME:CEST
END:DAYLIGHT
END:VTIMEZONE
BEGIN:VEVENT
UID:20260420T022038UTC-7904wdiwGx@162.55.0.135
DTSTAMP:20260420T022038Z
CATEGORIES:PERSONAL
CLASS:PUBLIC
DESCRIPTION:Lets get Ready to Rumbleeeeeeeeeeee Teil zwei mit mehr vorlauf.
  \n\nIch will ein paar Monsterärsche verkloppen und da Samstags die Wilden
  unterwegs sind und dadurch ein paar Monster zum bekämpfen *fies grins*.. 
 Wie wir es gebalanct bekommen schauen wir an dem Tag\, alles vom Zähen ste
 ak zur Glasskannone bis hin zum Kanonnenfutter gern gesehen solange es nen
  harten magen hat\, zuhören kann und auf das Kommando so wirds unfair wir 
 ändern es hört ohne mimimi zu machen. \n\nPS: Törtchen und Schauffel fürs 
 angstpipi inbegriffen
DTSTART:20210522T180000Z
DTEND:20210522T201500Z
SUMMARY:PvMP
END:VEVENT
END:VCALENDAR
