BEGIN:VCALENDAR
VERSION:2.0
PRODID:-////NONSGML kigkonsult.se iCalcreator 2.22//
X-WR-CALNAME:Mein Kalender bei ''
X-WR-CALDESC:Der iCal-Feed wurde automatisch erstellt von EQDKP-PLUS
X-WR-TIMEZONE:Europe/Berlin
BEGIN:VTIMEZONE
TZID:Europe/Berlin
X-LIC-LOCATION:Europe/Berlin
BEGIN:STANDARD
DTSTART:20251026T030000
TZOFFSETFROM:+0200
TZOFFSETTO:+0100
RDATE:20261025T030000
TZNAME:CET
END:STANDARD
BEGIN:DAYLIGHT
DTSTART:20260329T020000
TZOFFSETFROM:+0100
TZOFFSETTO:+0200
RDATE:20270328T020000
TZNAME:CEST
END:DAYLIGHT
END:VTIMEZONE
BEGIN:VEVENT
UID:20260419T154351UTC-32026kDKSF@162.55.0.135
DTSTAMP:20260419T154351Z
CATEGORIES:PERSONAL
CLASS:PUBLIC
DESCRIPTION:Hallo Leute\,\n\n \n\neinfach mal hier ein Angebot für einen ge
 meinsamen Spielabend. Was ist denkbar?\n\nEigentlich alles außer Tiernahru
 ng. ^^\n\n \n\nWünsche werden gern entgegengenommen.\n\nGerne 3er oder 6er
  Instanzen.
DTSTART:20210916T181500Z
DTEND:20210916T201500Z
SUMMARY:Offener Spielabend
END:VEVENT
END:VCALENDAR
