BEGIN:VCALENDAR
VERSION:2.0
PRODID:-////NONSGML kigkonsult.se iCalcreator 2.22//
X-WR-CALNAME:Mein Kalender bei ''
X-WR-CALDESC:Der iCal-Feed wurde automatisch erstellt von EQDKP-PLUS
X-WR-TIMEZONE:Europe/Berlin
BEGIN:VTIMEZONE
TZID:Europe/Berlin
X-LIC-LOCATION:Europe/Berlin
BEGIN:STANDARD
DTSTART:20251026T030000
TZOFFSETFROM:+0200
TZOFFSETTO:+0100
RDATE:20261025T030000
TZNAME:CET
END:STANDARD
BEGIN:DAYLIGHT
DTSTART:20260329T020000
TZOFFSETFROM:+0100
TZOFFSETTO:+0200
RDATE:20270328T020000
TZNAME:CEST
END:DAYLIGHT
END:VTIMEZONE
BEGIN:VEVENT
UID:20260420T015918UTC-9294DULP6l@162.55.0.135
DTSTAMP:20260420T015918Z
CATEGORIES:PERSONAL
CLASS:PUBLIC
DESCRIPTION:eine oder mehrere gemütliche Mützel (Siegel für Rollen springen
  auch bei rum) Vorraussetzung: abgeschlossene Scharmützelausbildung und um
  Stf 140 alt
DTSTART:20220312T190000Z
DTEND:20220312T210000Z
SUMMARY:Offener Spielabend
END:VEVENT
END:VCALENDAR
