BEGIN:VCALENDAR
VERSION:2.0
PRODID:-////NONSGML kigkonsult.se iCalcreator 2.22//
X-WR-CALNAME:Mein Kalender bei ''
X-WR-CALDESC:Der iCal-Feed wurde automatisch erstellt von EQDKP-PLUS
X-WR-TIMEZONE:Europe/Berlin
BEGIN:VTIMEZONE
TZID:Europe/Berlin
X-LIC-LOCATION:Europe/Berlin
BEGIN:STANDARD
DTSTART:20251026T030000
TZOFFSETFROM:+0200
TZOFFSETTO:+0100
RDATE:20261025T030000
TZNAME:CET
END:STANDARD
BEGIN:DAYLIGHT
DTSTART:20260329T020000
TZOFFSETFROM:+0100
TZOFFSETTO:+0200
RDATE:20270328T020000
TZNAME:CEST
END:DAYLIGHT
END:VTIMEZONE
BEGIN:VEVENT
UID:20260420T181656UTC-5844Fud6XS@162.55.0.135
DTSTAMP:20260420T181656Z
CATEGORIES:PERSONAL
CLASS:PUBLIC
DESCRIPTION:Ich biete diesen Freitag mal einen offenen Raidabend an! Das be
 deutet es wird je nach Gruppenaufstellung geschaut welcher Raid machbar is
 t bzw. wo am meisten Interesse besteht. Diesen Freitag stehen folgende Rai
 ds zur Auswahl:\n\nKhazad Dum T2 (nur bei passender Gruppe bzw. Erkenntnis
 se des 14.6)\n\nRemmo T2 (Nach langer Pause könnten wir hier nochmal probi
 eren weiter an Kankra zu knabbern)\n\nAmdam Dammul T2 (lange nicht mehr ge
 spielt)\n\n\n\nFeste Dunnoth T2 (Soll auf Stufe sehr schwer sein\, könnte 
 man sich mal angucken ob es machbar ist
DTSTART:20210618T181500Z
DTEND:20210618T210000Z
SUMMARY:offener Raidabend
END:VEVENT
END:VCALENDAR
