BEGIN:VCALENDAR
VERSION:2.0
PRODID:-////NONSGML kigkonsult.se iCalcreator 2.22//
X-WR-CALNAME:Mein Kalender bei ''
X-WR-CALDESC:Der iCal-Feed wurde automatisch erstellt von EQDKP-PLUS
X-WR-TIMEZONE:Europe/Berlin
BEGIN:VTIMEZONE
TZID:Europe/Berlin
X-LIC-LOCATION:Europe/Berlin
BEGIN:STANDARD
DTSTART:20251026T030000
TZOFFSETFROM:+0200
TZOFFSETTO:+0100
RDATE:20261025T030000
TZNAME:CET
END:STANDARD
BEGIN:DAYLIGHT
DTSTART:20260329T020000
TZOFFSETFROM:+0100
TZOFFSETTO:+0200
RDATE:20270328T020000
TZNAME:CEST
END:DAYLIGHT
END:VTIMEZONE
BEGIN:VEVENT
UID:20260419T160547UTC-4333Ip0ZXc@162.55.0.135
DTSTAMP:20260419T160547Z
CATEGORIES:PERSONAL
CLASS:PUBLIC
DESCRIPTION:Am Mittwoch erscheint der neue Raid und ich möchte ihn gemeinsa
 m mit euch anschauen! Mir ist aber besonders wichtig\, dass Alle gute Laun
 e mitbringen und einfach Spaß am probieren und kennenlernen haben. Ob es s
 chon klappt oder nicht sehen wir dann :)
DTSTART:20220217T191500Z
DTEND:20220217T220000Z
SUMMARY:Neuer Raid! Erster Test\, Spaß haben
END:VEVENT
END:VCALENDAR
