BEGIN:VCALENDAR
VERSION:2.0
PRODID:-////NONSGML kigkonsult.se iCalcreator 2.22//
X-WR-CALNAME:Mein Kalender bei ''
X-WR-CALDESC:Der iCal-Feed wurde automatisch erstellt von EQDKP-PLUS
X-WR-TIMEZONE:Europe/Berlin
BEGIN:VTIMEZONE
TZID:Europe/Berlin
X-LIC-LOCATION:Europe/Berlin
BEGIN:STANDARD
DTSTART:20251026T030000
TZOFFSETFROM:+0200
TZOFFSETTO:+0100
RDATE:20261025T030000
TZNAME:CET
END:STANDARD
BEGIN:DAYLIGHT
DTSTART:20260329T020000
TZOFFSETFROM:+0100
TZOFFSETTO:+0200
RDATE:20270328T020000
TZNAME:CEST
END:DAYLIGHT
END:VTIMEZONE
BEGIN:VEVENT
UID:20260420T140400UTC-4390RUOKlh@162.55.0.135
DTSTAMP:20260420T140400Z
CATEGORIES:PERSONAL
CLASS:PUBLIC
DESCRIPTION:Es ist wieder soweit\, ein neuer Raid erscheint und wie verspro
 chen setzen wir es mal an.\n\nIch hoffe wir werden voll\, bei T1 werde ich
  aber nicht all zu viel zusätzlich suchen. Ich war selbst noch nie drin al
 so.. lasst euch überaschen \;)\n\nZur Aufteilung:\n\n2xTank (latte ob HM H
 üter Wächter Blauwaffi)\n\n2xHeal (latte ob Beo/Barde/Runi/HM)\n\n1xRotHM/
 Gelbschurke/Kundi\n\n5xKawumbawum
DTSTART:20210612T181500Z
DTEND:20210612T201500Z
SUMMARY:Khazad Dûm T1
END:VEVENT
END:VCALENDAR
