BEGIN:VCALENDAR
VERSION:2.0
PRODID:-////NONSGML kigkonsult.se iCalcreator 2.22//
X-WR-CALNAME:Mein Kalender bei ''
X-WR-CALDESC:Der iCal-Feed wurde automatisch erstellt von EQDKP-PLUS
X-WR-TIMEZONE:Europe/Berlin
BEGIN:VTIMEZONE
TZID:Europe/Berlin
X-LIC-LOCATION:Europe/Berlin
BEGIN:STANDARD
DTSTART:20251026T030000
TZOFFSETFROM:+0200
TZOFFSETTO:+0100
RDATE:20261025T030000
TZNAME:CET
END:STANDARD
BEGIN:DAYLIGHT
DTSTART:20260329T020000
TZOFFSETFROM:+0100
TZOFFSETTO:+0200
RDATE:20270328T020000
TZNAME:CEST
END:DAYLIGHT
END:VTIMEZONE
BEGIN:VEVENT
UID:20260419T195929UTC-76009bj4mr@162.55.0.135
DTSTAMP:20260419T195929Z
CATEGORIES:PERSONAL
CLASS:PUBLIC
DESCRIPTION:So nach einer kleinen Urlaubs/Sommerpause möchte ich mal wieder
  KD T2 anbieten. Sollten sich nicht genügend Leute melden\, wird es ein An
 gebot auf T1....hoffe aber die Truppe findet sich mal wieder :)
DTSTART:20210907T181500Z
DTEND:20210907T201500Z
SUMMARY:Khazad Dum T2
END:VEVENT
END:VCALENDAR
