BEGIN:VCALENDAR
VERSION:2.0
PRODID:-////NONSGML kigkonsult.se iCalcreator 2.22//
X-WR-CALNAME:Mein Kalender bei ''
X-WR-CALDESC:Der iCal-Feed wurde automatisch erstellt von EQDKP-PLUS
X-WR-TIMEZONE:Europe/Berlin
BEGIN:VTIMEZONE
TZID:Europe/Berlin
X-LIC-LOCATION:Europe/Berlin
BEGIN:STANDARD
DTSTART:20251026T030000
TZOFFSETFROM:+0200
TZOFFSETTO:+0100
RDATE:20261025T030000
TZNAME:CET
END:STANDARD
BEGIN:DAYLIGHT
DTSTART:20260329T020000
TZOFFSETFROM:+0100
TZOFFSETTO:+0200
RDATE:20270328T020000
TZNAME:CEST
END:DAYLIGHT
END:VTIMEZONE
BEGIN:VEVENT
UID:20260420T223910UTC-0091lSurD8@162.55.0.135
DTSTAMP:20260420T223910Z
CATEGORIES:PERSONAL
CLASS:PUBLIC
DESCRIPTION:Ich habe nächste Woche am Dienstag Nachtschicht und werde wie b
 ereits erwähnt nun immer zwischen Montag und Mittwoch einen Raid anbieten.
  Wenn die Gruppe voll wird findet es Mittwoch statt! Wenn nicht wieder die
  Woche darauf :) Haben uns letztes Mal gut geschlagen! Bitte meldet euch a
 uch nur mit passendem Equip und Klassenerfahrung an! T1 wird Filbu ab und 
 zu anbieten um allen die Möglichkeit des Abschlusses zu ermöglichen
DTSTART:20210630T181500Z
DTEND:20210630T210000Z
SUMMARY:Khazad Dum T2
END:VEVENT
END:VCALENDAR
