BEGIN:VCALENDAR
VERSION:2.0
PRODID:-////NONSGML kigkonsult.se iCalcreator 2.22//
X-WR-CALNAME:Mein Kalender bei ''
X-WR-CALDESC:Der iCal-Feed wurde automatisch erstellt von EQDKP-PLUS
X-WR-TIMEZONE:Europe/Berlin
BEGIN:VTIMEZONE
TZID:Europe/Berlin
X-LIC-LOCATION:Europe/Berlin
BEGIN:STANDARD
DTSTART:20251026T030000
TZOFFSETFROM:+0200
TZOFFSETTO:+0100
RDATE:20261025T030000
TZNAME:CET
END:STANDARD
BEGIN:DAYLIGHT
DTSTART:20260329T020000
TZOFFSETFROM:+0100
TZOFFSETTO:+0200
RDATE:20270328T020000
TZNAME:CEST
END:DAYLIGHT
END:VTIMEZONE
BEGIN:VEVENT
UID:20260420T194436UTC-4587laurLX@162.55.0.135
DTSTAMP:20260420T194436Z
CATEGORIES:PERSONAL
CLASS:PUBLIC
DESCRIPTION:Ich biete Khazad Dum nun an wechselnden Wochentagen an! Im Somm
 er bekommt man eh nicht alle Leute an einem bestimmten Tag zusammen\, soda
 ss wir immer rotieren und ich auch von Hilfe von Freunden außerhalb gebrau
 ch machen werde! Meldet euch an um den Balrog zu legen! Wir packen wieder 
 T2!
DTSTART:20210622T181500Z
DTEND:20210622T204500Z
SUMMARY:Khazad Dum T2
END:VEVENT
END:VCALENDAR
