BEGIN:VCALENDAR
VERSION:2.0
PRODID:-////NONSGML kigkonsult.se iCalcreator 2.22//
X-WR-CALNAME:Mein Kalender bei ''
X-WR-CALDESC:Der iCal-Feed wurde automatisch erstellt von EQDKP-PLUS
X-WR-TIMEZONE:Europe/Berlin
BEGIN:VTIMEZONE
TZID:Europe/Berlin
X-LIC-LOCATION:Europe/Berlin
BEGIN:STANDARD
DTSTART:20251026T030000
TZOFFSETFROM:+0200
TZOFFSETTO:+0100
RDATE:20261025T030000
TZNAME:CET
END:STANDARD
BEGIN:DAYLIGHT
DTSTART:20260329T020000
TZOFFSETFROM:+0100
TZOFFSETTO:+0200
RDATE:20270328T020000
TZNAME:CEST
END:DAYLIGHT
END:VTIMEZONE
BEGIN:VEVENT
UID:20260421T011431UTC-48230gwNT2@162.55.0.135
DTSTAMP:20260421T011431Z
CATEGORIES:PERSONAL
CLASS:PUBLIC
DESCRIPTION:Eine Runde KD T1 für den Abschluss und zum Spaß haben.\n\nKönnt
  euch auch mit Twinks anmelden. Sollte eigentlich alles machbar sein. \n\n
 Einfach mit Wunschklasse anmelden und wenn vorhanden eine Alternative ange
 ben.\n\nDann basteln wir schon irgendwas zusammen. \n\nSollte Interesse vo
 rhanden sein wird das Angebot wiederholt.
DTSTART:20210707T181500Z
DTEND:20210707T201500Z
SUMMARY:Khazad Dum T1
END:VEVENT
END:VCALENDAR
