BEGIN:VCALENDAR
VERSION:2.0
PRODID:-////NONSGML kigkonsult.se iCalcreator 2.22//
X-WR-CALNAME:Mein Kalender bei ''
X-WR-CALDESC:Der iCal-Feed wurde automatisch erstellt von EQDKP-PLUS
X-WR-TIMEZONE:Europe/Berlin
BEGIN:VTIMEZONE
TZID:Europe/Berlin
X-LIC-LOCATION:Europe/Berlin
BEGIN:STANDARD
DTSTART:20251026T030000
TZOFFSETFROM:+0200
TZOFFSETTO:+0100
RDATE:20261025T030000
TZNAME:CET
END:STANDARD
BEGIN:DAYLIGHT
DTSTART:20260329T020000
TZOFFSETFROM:+0100
TZOFFSETTO:+0200
RDATE:20270328T020000
TZNAME:CEST
END:DAYLIGHT
END:VTIMEZONE
BEGIN:VEVENT
UID:20260419T161451UTC-6118wibFkD@162.55.0.135
DTSTAMP:20260419T161451Z
CATEGORIES:PERSONAL
CLASS:PUBLIC
DESCRIPTION:Ich möchte zur Abwechslung mal wieder 6er Instanzen spielen\, d
 ie wir länger nicht mehr gelaufen sind. Je nach Konstellation wagen wir un
 s an T2 oder T3.
DTSTART:20210509T181500Z
DTEND:20210509T201500Z
SUMMARY:Hallen des dunklen Wissen T2/T3
END:VEVENT
END:VCALENDAR
