BEGIN:VCALENDAR
VERSION:2.0
PRODID:-////NONSGML kigkonsult.se iCalcreator 2.22//
X-WR-CALNAME:Mein Kalender bei ''
X-WR-CALDESC:Der iCal-Feed wurde automatisch erstellt von EQDKP-PLUS
X-WR-TIMEZONE:Europe/Berlin
BEGIN:VTIMEZONE
TZID:Europe/Berlin
X-LIC-LOCATION:Europe/Berlin
BEGIN:STANDARD
DTSTART:20251026T030000
TZOFFSETFROM:+0200
TZOFFSETTO:+0100
RDATE:20261025T030000
TZNAME:CET
END:STANDARD
BEGIN:DAYLIGHT
DTSTART:20260329T020000
TZOFFSETFROM:+0100
TZOFFSETTO:+0200
RDATE:20270328T020000
TZNAME:CEST
END:DAYLIGHT
END:VTIMEZONE
BEGIN:VEVENT
UID:20260421T035514UTC-9154FvxE1t@162.55.0.135
DTSTAMP:20260421T035514Z
CATEGORIES:PERSONAL
CLASS:PUBLIC
DESCRIPTION:So ich brauche mal etwas Unterstützung mit Twinks und möchte ge
 meinsam die 6er Garth Agarwen Instanzen auf Stufe spielen\, wäre schön wen
 n 1-3 Leute vielleicht einen Charakter auf der Stufe hätten.
DTSTART:20210719T181500Z
DTEND:20210719T201500Z
SUMMARY:Garth Agarwen 6er Instanzen (Stufe 32-35)
END:VEVENT
END:VCALENDAR
