BEGIN:VCALENDAR
VERSION:2.0
PRODID:-////NONSGML kigkonsult.se iCalcreator 2.22//
X-WR-CALNAME:Mein Kalender bei ''
X-WR-CALDESC:Der iCal-Feed wurde automatisch erstellt von EQDKP-PLUS
X-WR-TIMEZONE:Europe/Berlin
BEGIN:VTIMEZONE
TZID:Europe/Berlin
X-LIC-LOCATION:Europe/Berlin
BEGIN:STANDARD
DTSTART:20251026T030000
TZOFFSETFROM:+0200
TZOFFSETTO:+0100
RDATE:20261025T030000
TZNAME:CET
END:STANDARD
BEGIN:DAYLIGHT
DTSTART:20260329T020000
TZOFFSETFROM:+0100
TZOFFSETTO:+0200
RDATE:20270328T020000
TZNAME:CEST
END:DAYLIGHT
END:VTIMEZONE
BEGIN:VEVENT
UID:20260419T212709UTC-5900o9MTku@162.55.0.135
DTSTAMP:20260419T212709Z
CATEGORIES:PERSONAL
CLASS:PUBLIC
DESCRIPTION:Ich brauche mit meinem Waffi noch Beförderungspunkte und möchte
  mit euch die 12er epische Schlachten spielen. Jeder kann mitkommen Stufe/
 Klasse ganz egal\,nur Spaß muss mitgebracht werden. \n\nHinweis: Für die 1
 2er in Helms Klamm muss man die Solo Schlachten davor gemeistert haben :)
DTSTART:20220307T193000Z
DTEND:20220307T210000Z
SUMMARY:Epische Schlachten 12er (Helms Klamm\, Minas Tirith)
END:VEVENT
END:VCALENDAR
