BEGIN:VCALENDAR
VERSION:2.0
PRODID:-////NONSGML kigkonsult.se iCalcreator 2.22//
X-WR-CALNAME:Mein Kalender bei ''
X-WR-CALDESC:Der iCal-Feed wurde automatisch erstellt von EQDKP-PLUS
X-WR-TIMEZONE:Europe/Berlin
BEGIN:VTIMEZONE
TZID:Europe/Berlin
X-LIC-LOCATION:Europe/Berlin
BEGIN:STANDARD
DTSTART:20251026T030000
TZOFFSETFROM:+0200
TZOFFSETTO:+0100
RDATE:20261025T030000
TZNAME:CET
END:STANDARD
BEGIN:DAYLIGHT
DTSTART:20260329T020000
TZOFFSETFROM:+0100
TZOFFSETTO:+0200
RDATE:20270328T020000
TZNAME:CEST
END:DAYLIGHT
END:VTIMEZONE
BEGIN:VEVENT
UID:20260419T144033UTC-1160cfD8L4@162.55.0.135
DTSTAMP:20260419T144033Z
CATEGORIES:PERSONAL
CLASS:PUBLIC
DESCRIPTION:Hallo\,\n\n \n\nwürde gerne bei meinen Chars die Abschlüsse ver
 vollständigen.\n\nHeißt ich brauche 2 Spieler mit unterschiedlichen Klasse
 n die ebenfalls noch auf den unteren Stufen die Abschlüsse brauchen oder L
 ust haben zu helfen.\n\nGibt ja Tugend-EP. Lohnt sich also. ^^
DTSTART:20220201T193000Z
DTEND:20220201T213000Z
SUMMARY:Dhurstrok Abschlüsse T1-T3
END:VEVENT
END:VCALENDAR
