BEGIN:VCALENDAR
VERSION:2.0
PRODID:-////NONSGML kigkonsult.se iCalcreator 2.22//
X-WR-CALNAME:Mein Kalender bei ''
X-WR-CALDESC:Der iCal-Feed wurde automatisch erstellt von EQDKP-PLUS
X-WR-TIMEZONE:Europe/Berlin
BEGIN:VTIMEZONE
TZID:Europe/Berlin
X-LIC-LOCATION:Europe/Berlin
BEGIN:STANDARD
DTSTART:20251026T030000
TZOFFSETFROM:+0200
TZOFFSETTO:+0100
RDATE:20261025T030000
TZNAME:CET
END:STANDARD
BEGIN:DAYLIGHT
DTSTART:20260329T020000
TZOFFSETFROM:+0100
TZOFFSETTO:+0200
RDATE:20270328T020000
TZNAME:CEST
END:DAYLIGHT
END:VTIMEZONE
BEGIN:VEVENT
UID:20260420T050614UTC-1624nNol41@162.55.0.135
DTSTAMP:20260420T050614Z
CATEGORIES:PERSONAL
CLASS:PUBLIC
DESCRIPTION:Ich möchte gerne wieder BDT Abend anbieten. Mögliche Ziele:\n3e
 r Inis T1/2/3\n6er Ini t1/2\nEpische Schlachten\n\nEtc. Je nach Teilnehmer
  und Konstellation. Wünsche/Fragen gerne in die Kommentaren hier.
DTSTART:20220316T193000Z
DTEND:20220316T210000Z
SUMMARY:BDT Abend
END:VEVENT
END:VCALENDAR
