BEGIN:VCALENDAR
VERSION:2.0
PRODID:-////NONSGML kigkonsult.se iCalcreator 2.22//
X-WR-CALNAME:Mein Kalender bei ''
X-WR-CALDESC:Der iCal-Feed wurde automatisch erstellt von EQDKP-PLUS
X-WR-TIMEZONE:Europe/Berlin
BEGIN:VTIMEZONE
TZID:Europe/Berlin
X-LIC-LOCATION:Europe/Berlin
BEGIN:STANDARD
DTSTART:20251026T030000
TZOFFSETFROM:+0200
TZOFFSETTO:+0100
RDATE:20261025T030000
TZNAME:CET
END:STANDARD
BEGIN:DAYLIGHT
DTSTART:20260329T020000
TZOFFSETFROM:+0100
TZOFFSETTO:+0200
RDATE:20270328T020000
TZNAME:CEST
END:DAYLIGHT
END:VTIMEZONE
BEGIN:VEVENT
UID:20260421T035243UTC-3139N8oWIi@162.55.0.135
DTSTAMP:20260421T035243Z
CATEGORIES:PERSONAL
CLASS:PUBLIC
DESCRIPTION:Ich setze hier mal Amdan Dammul T2 an. Wir haben nun zweimal Kh
 azad Dum geschafft und ich würde gerne Amdam Dammul laufen um wieder reinz
 ukommen um evt. mit Unterstützung auch T3 nochmal anzugehen.
DTSTART:20210713T181500Z
DTEND:20210713T210000Z
SUMMARY:Amdam Dammul T2
END:VEVENT
END:VCALENDAR
