BEGIN:VCALENDAR
VERSION:2.0
PRODID:-////NONSGML kigkonsult.se iCalcreator 2.22//
X-WR-CALNAME:Mein Kalender bei ''
X-WR-CALDESC:Der iCal-Feed wurde automatisch erstellt von EQDKP-PLUS
X-WR-TIMEZONE:Europe/Berlin
BEGIN:VTIMEZONE
TZID:Europe/Berlin
X-LIC-LOCATION:Europe/Berlin
BEGIN:STANDARD
DTSTART:20251026T030000
TZOFFSETFROM:+0200
TZOFFSETTO:+0100
RDATE:20261025T030000
TZNAME:CET
END:STANDARD
BEGIN:DAYLIGHT
DTSTART:20260329T020000
TZOFFSETFROM:+0100
TZOFFSETTO:+0200
RDATE:20270328T020000
TZNAME:CEST
END:DAYLIGHT
END:VTIMEZONE
BEGIN:VEVENT
UID:20260419T151143UTC-0713FmSVC6@162.55.0.135
DTSTAMP:20260419T151143Z
CATEGORIES:PERSONAL
CLASS:PUBLIC
DESCRIPTION:Huhu\,\n\ngesucht sind freiwillige Helfer Für den Amboss\, dami
 t unser Neuzugang den Raid erkunden kann :)\n\nEs wären 2 120er dabei\, re
 st kann gerne auch mit großen Chars aufgefüllt werden.
DTSTART:20220423T181500Z
DTEND:20220423T210000Z
SUMMARY:Amboss der Winterschmiede T2
END:VEVENT
END:VCALENDAR
