BEGIN:VCALENDAR
VERSION:2.0
PRODID:-////NONSGML kigkonsult.se iCalcreator 2.22//
X-WR-CALNAME:Mein Kalender bei ''
X-WR-CALDESC:Der iCal-Feed wurde automatisch erstellt von EQDKP-PLUS
X-WR-TIMEZONE:Europe/Berlin
BEGIN:VTIMEZONE
TZID:Europe/Berlin
X-LIC-LOCATION:Europe/Berlin
BEGIN:STANDARD
DTSTART:20251026T030000
TZOFFSETFROM:+0200
TZOFFSETTO:+0100
RDATE:20261025T030000
TZNAME:CET
END:STANDARD
BEGIN:DAYLIGHT
DTSTART:20260329T020000
TZOFFSETFROM:+0100
TZOFFSETTO:+0200
RDATE:20270328T020000
TZNAME:CEST
END:DAYLIGHT
END:VTIMEZONE
BEGIN:VEVENT
UID:20260419T183015UTC-2197zltHJb@162.55.0.135
DTSTAMP:20260419T183015Z
CATEGORIES:PERSONAL
CLASS:PUBLIC
DESCRIPTION:Auf Wunsch einige Spieler möchte ich an diesem Abend mal den Am
 boss der Winterschmiede ansetzen. Je nach Unterstützung unserer erfahrenen
  Spieler schauen wir o wir T1 oder T2 laufe werden. Ich hoffe viele Leute 
 die Interesse geäußert hatten finden auch die Zeit dieses Angebot anzunehm
 en.
DTSTART:20210913T181500Z
DTEND:20210913T210000Z
SUMMARY:Amboss der Winterschmiede T1/T2
END:VEVENT
END:VCALENDAR
