BEGIN:VCALENDAR
VERSION:2.0
PRODID:-////NONSGML kigkonsult.se iCalcreator 2.22//
X-WR-CALNAME:Mein Kalender bei ''
X-WR-CALDESC:Der iCal-Feed wurde automatisch erstellt von EQDKP-PLUS
X-WR-TIMEZONE:Europe/Berlin
BEGIN:VTIMEZONE
TZID:Europe/Berlin
X-LIC-LOCATION:Europe/Berlin
BEGIN:STANDARD
DTSTART:20251026T030000
TZOFFSETFROM:+0200
TZOFFSETTO:+0100
RDATE:20261025T030000
TZNAME:CET
END:STANDARD
BEGIN:DAYLIGHT
DTSTART:20260329T020000
TZOFFSETFROM:+0100
TZOFFSETTO:+0200
RDATE:20270328T020000
TZNAME:CEST
END:DAYLIGHT
END:VTIMEZONE
BEGIN:VEVENT
UID:20260419T172709UTC-162794v1n2@162.55.0.135
DTSTAMP:20260419T172709Z
CATEGORIES:PERSONAL
CLASS:PUBLIC
DESCRIPTION:Ich biete am Sonntag mal eine Nachmittagsrunde AZ T3 an\, da ei
 nige immer noch den Abschluss brauchen. Ich werde die Gruppe versuchen so 
 aufzustellen\, dass 1-2 Leute ohne Abschluss mitkommen können.
DTSTART:20220220T150000Z
DTEND:20220220T163000Z
SUMMARY:Adkhat-Zahhar\, Häuser der Ruhe T3 
END:VEVENT
END:VCALENDAR
