BEGIN:VCALENDAR
VERSION:2.0
PRODID:-////NONSGML kigkonsult.se iCalcreator 2.22//
X-WR-CALNAME:Mein Kalender bei ''
X-WR-CALDESC:Der iCal-Feed wurde automatisch erstellt von EQDKP-PLUS
X-WR-TIMEZONE:Europe/Berlin
BEGIN:VTIMEZONE
TZID:Europe/Berlin
X-LIC-LOCATION:Europe/Berlin
BEGIN:STANDARD
DTSTART:20251026T030000
TZOFFSETFROM:+0200
TZOFFSETTO:+0100
RDATE:20261025T030000
TZNAME:CET
END:STANDARD
BEGIN:DAYLIGHT
DTSTART:20260329T020000
TZOFFSETFROM:+0100
TZOFFSETTO:+0200
RDATE:20270328T020000
TZNAME:CEST
END:DAYLIGHT
END:VTIMEZONE
BEGIN:VEVENT
UID:20260419T181654UTC-3930iDxHub@162.55.0.135
DTSTAMP:20260419T181654Z
CATEGORIES:PERSONAL
CLASS:PUBLIC
DESCRIPTION:Der Lauf ist in erster Linie dazu da um Leuten den Abschluss au
 f T3 zu ermöglichen.\n\nDas können bis zu 3 Leute ohne bisherigen Abschlus
 s sein. Die restlichen Plätze\, vor allem Tank und Heiler möchte ich mit S
 tammspielern besetzen.\n\nSollten es mehr als drei Spieler sein die den Ab
 schluss noch benötigen\, setze ich das in der kommenden Woche nochmal an.
DTSTART:20220427T183000Z
DTEND:20220427T200000Z
SUMMARY:Adkhat-Zahhar\, Häuser der Ruhe T3 
END:VEVENT
END:VCALENDAR
