BEGIN:VCALENDAR
VERSION:2.0
PRODID:-////NONSGML kigkonsult.se iCalcreator 2.22//
X-WR-CALNAME:Mein Kalender bei ''
X-WR-CALDESC:Der iCal-Feed wurde automatisch erstellt von EQDKP-PLUS
X-WR-TIMEZONE:Europe/Berlin
BEGIN:VTIMEZONE
TZID:Europe/Berlin
X-LIC-LOCATION:Europe/Berlin
BEGIN:STANDARD
DTSTART:20251026T030000
TZOFFSETFROM:+0200
TZOFFSETTO:+0100
RDATE:20261025T030000
TZNAME:CET
END:STANDARD
BEGIN:DAYLIGHT
DTSTART:20260329T020000
TZOFFSETFROM:+0100
TZOFFSETTO:+0200
RDATE:20270328T020000
TZNAME:CEST
END:DAYLIGHT
END:VTIMEZONE
BEGIN:VEVENT
UID:20260419T200648UTC-3707vpOiv0@162.55.0.135
DTSTAMP:20260419T200648Z
CATEGORIES:PERSONAL
CLASS:PUBLIC
DESCRIPTION:Einfach mal ne Runde zum Spaß.\n\nOb wir T3\,T4 oder T5 machen 
 ist erstmal zweitrangig. Wir schauen mal wer da ist und was wir hinbekomme
 n.\n\n\n\nGruß\n\nFilbu
DTSTART:20220302T193000Z
DTEND:20220302T213000Z
SUMMARY:Adkhat-Zahhar Die Häuser der Ruhe
END:VEVENT
END:VCALENDAR
