BEGIN:VCALENDAR
VERSION:2.0
PRODID:-////NONSGML kigkonsult.se iCalcreator 2.22//
X-WR-CALNAME:Mein Kalender bei ''
X-WR-CALDESC:Der iCal-Feed wurde automatisch erstellt von EQDKP-PLUS
X-WR-TIMEZONE:Europe/Berlin
BEGIN:VTIMEZONE
TZID:Europe/Berlin
X-LIC-LOCATION:Europe/Berlin
BEGIN:STANDARD
DTSTART:20251026T030000
TZOFFSETFROM:+0200
TZOFFSETTO:+0100
RDATE:20261025T030000
TZNAME:CET
END:STANDARD
BEGIN:DAYLIGHT
DTSTART:20260329T020000
TZOFFSETFROM:+0100
TZOFFSETTO:+0200
RDATE:20270328T020000
TZNAME:CEST
END:DAYLIGHT
END:VTIMEZONE
BEGIN:VEVENT
UID:20260419T151906UTC-3675B8vPlm@162.55.0.135
DTSTAMP:20260419T151906Z
CATEGORIES:PERSONAL
CLASS:PUBLIC
DESCRIPTION:Wir möchten mal Pony/etc. pp. Mützel machen\, um ein paar Siege
 l zu sammeln. Und da das doch relativ flott abläuft\, machen wir auch Abna
 nkara t1 davor/danach dazu.
DTSTART:20220421T183000Z
DTEND:20220421T200000Z
SUMMARY:Abnankara T1 + Scharmützel
END:VEVENT
END:VCALENDAR
