BEGIN:VCALENDAR
VERSION:2.0
PRODID:-////NONSGML kigkonsult.se iCalcreator 2.22//
X-WR-CALNAME:Mein Kalender bei ''
X-WR-CALDESC:Der iCal-Feed wurde automatisch erstellt von EQDKP-PLUS
X-WR-TIMEZONE:Europe/Berlin
BEGIN:VTIMEZONE
TZID:Europe/Berlin
X-LIC-LOCATION:Europe/Berlin
BEGIN:STANDARD
DTSTART:20251026T030000
TZOFFSETFROM:+0200
TZOFFSETTO:+0100
RDATE:20261025T030000
TZNAME:CET
END:STANDARD
BEGIN:DAYLIGHT
DTSTART:20260329T020000
TZOFFSETFROM:+0100
TZOFFSETTO:+0200
RDATE:20270328T020000
TZNAME:CEST
END:DAYLIGHT
END:VTIMEZONE
BEGIN:VEVENT
UID:20260424T081153UTC-5393l2FENe@162.55.0.135
DTSTAMP:20260424T081153Z
CATEGORIES:PERSONAL
CLASS:PUBLIC
DESCRIPTION:Etwas kurzfristig\, aber vieleicht bekommen wir es ja aufgestel
 lt. Wir haben ID würden also direkt bei ID2 starten und dann schauen wie w
 eit wir kommen.
DTSTART:20230131T191500Z
DTEND:20230131T203000Z
SUMMARY:Abnankara der Heimlichort T3
END:VEVENT
END:VCALENDAR
