BEGIN:VCALENDAR
VERSION:2.0
PRODID:-////NONSGML kigkonsult.se iCalcreator 2.22//
X-WR-CALNAME:Mein Kalender bei ''
X-WR-CALDESC:Der iCal-Feed wurde automatisch erstellt von EQDKP-PLUS
X-WR-TIMEZONE:Europe/Berlin
BEGIN:VTIMEZONE
TZID:Europe/Berlin
X-LIC-LOCATION:Europe/Berlin
BEGIN:STANDARD
DTSTART:20251026T030000
TZOFFSETFROM:+0200
TZOFFSETTO:+0100
RDATE:20261025T030000
TZNAME:CET
END:STANDARD
BEGIN:DAYLIGHT
DTSTART:20260329T020000
TZOFFSETFROM:+0100
TZOFFSETTO:+0200
RDATE:20270328T020000
TZNAME:CEST
END:DAYLIGHT
END:VTIMEZONE
BEGIN:VEVENT
UID:20260419T182253UTC-0629LaurIp@162.55.0.135
DTSTAMP:20260419T182253Z
CATEGORIES:PERSONAL
CLASS:PUBLIC
DESCRIPTION:Aufgrund der momentan hohen Nachfrage hier noch ein weitere Lau
 f T1.\n\nVorzug haben die Leute die am Mittwoch auf der Ersatzbank Platz n
 ehmen mussten.\n\n \n\nBitte pünktlich sein und vorher auch entdeckt.^^
DTSTART:20220407T183000Z
DTEND:20220407T193000Z
SUMMARY:Abnankara der Heimlichort T1
END:VEVENT
END:VCALENDAR
