BEGIN:VCALENDAR
VERSION:2.0
PRODID:-////NONSGML kigkonsult.se iCalcreator 2.22//
X-WR-CALNAME:Mein Kalender bei ''
X-WR-CALDESC:Der iCal-Feed wurde automatisch erstellt von EQDKP-PLUS
X-WR-TIMEZONE:Europe/Berlin
BEGIN:VTIMEZONE
TZID:Europe/Berlin
X-LIC-LOCATION:Europe/Berlin
BEGIN:STANDARD
DTSTART:20251026T030000
TZOFFSETFROM:+0200
TZOFFSETTO:+0100
RDATE:20261025T030000
TZNAME:CET
END:STANDARD
BEGIN:DAYLIGHT
DTSTART:20260329T020000
TZOFFSETFROM:+0100
TZOFFSETTO:+0200
RDATE:20270328T020000
TZNAME:CEST
END:DAYLIGHT
END:VTIMEZONE
BEGIN:VEVENT
UID:20260420T034743UTC-0959iSi2gm@162.55.0.135
DTSTAMP:20260420T034743Z
CATEGORIES:PERSONAL
CLASS:PUBLIC
DESCRIPTION:So unser 3. Raidabend steht an! Wir haben auf T1 schon einen kl
 asse Fortschritt gemacht\, sodass wir bei zeitlichem Abschluss erneut den 
 1. Boss auf T2 angehen werden :)
DTSTART:20220315T191500Z
DTEND:20220315T213000Z
SUMMARY:Abnankara der Heimlichort T1
END:VEVENT
END:VCALENDAR
